BEGIN:VCALENDAR
VERSION:2.0
PRODID:-//Niles District Library - ECPv6.15.17.1//NONSGML v1.0//EN
CALSCALE:GREGORIAN
METHOD:PUBLISH
X-WR-CALNAME:Niles District Library
X-ORIGINAL-URL:https://nileslibrary.com
X-WR-CALDESC:Events for Niles District Library
REFRESH-INTERVAL;VALUE=DURATION:PT1H
X-Robots-Tag:noindex
X-PUBLISHED-TTL:PT1H
BEGIN:VTIMEZONE
TZID:America/New_York
BEGIN:DAYLIGHT
TZOFFSETFROM:-0500
TZOFFSETTO:-0400
TZNAME:EDT
DTSTART:20250309T070000
END:DAYLIGHT
BEGIN:STANDARD
TZOFFSETFROM:-0400
TZOFFSETTO:-0500
TZNAME:EST
DTSTART:20251102T060000
END:STANDARD
BEGIN:DAYLIGHT
TZOFFSETFROM:-0500
TZOFFSETTO:-0400
TZNAME:EDT
DTSTART:20260308T070000
END:DAYLIGHT
BEGIN:STANDARD
TZOFFSETFROM:-0400
TZOFFSETTO:-0500
TZNAME:EST
DTSTART:20261101T060000
END:STANDARD
BEGIN:DAYLIGHT
TZOFFSETFROM:-0500
TZOFFSETTO:-0400
TZNAME:EDT
DTSTART:20270314T070000
END:DAYLIGHT
BEGIN:STANDARD
TZOFFSETFROM:-0400
TZOFFSETTO:-0500
TZNAME:EST
DTSTART:20271107T060000
END:STANDARD
END:VTIMEZONE
BEGIN:VEVENT
DTSTART;TZID=America/New_York:20260708T190000
DTEND;TZID=America/New_York:20260708T203000
DTSTAMP:20260423T071735
CREATED:20260422T161009Z
LAST-MODIFIED:20260422T161744Z
UID:10008172-1783537200-1783542600@nileslibrary.com
SUMMARY:The Fort St. Joseph Summer Lecture Series:  Documentary Showing at Wonderland Cinema
DESCRIPTION: The Fort St. Joseph Summer Lecture Series:  Documentary Showing at Wonderland Cinema\nWednesday\, July 8 | Time TBD | Wonderland Cinema | All Ages  \nThe Fort St. Joseph Archaeological Project Presents \nMore information to come. \nWonderland Cinema address: 402 North Front St\, Niles\, MI 49120 \nThe library will not provide transportation to or from this event. 
URL:https://nileslibrary.com/single-event/the-fort-st-joseph-summer-lecture-series-documentary-showing-at-wonderland-cinema/
CATEGORIES:Special Programs
END:VEVENT
BEGIN:VEVENT
DTSTART;TZID=America/New_York:20260715T190000
DTEND;TZID=America/New_York:20260715T203000
DTSTAMP:20260423T071735
CREATED:20260422T161342Z
LAST-MODIFIED:20260422T161342Z
UID:10008173-1784142000-1784147400@nileslibrary.com
SUMMARY:The Fort St. Joseph Summer Lecture Series:  
DESCRIPTION:The Fort St. Joseph Summer Lecture Series:  \nWednesday\, July 8 | 7pm – 8:30pm | Rotunda | All Ages \n\n\nThe Fort St. Joseph Archaeological Project Presents\n\nMore information to come! \nNo registration is required. You do not need a library card to attend this FREE event.\nFor more information\, please contact Niles District Library\, at programming@nileslibrary.net or 269.683.8545.
URL:https://nileslibrary.com/single-event/the-fort-st-joseph-summer-lecture-series/2026-07-15/
END:VEVENT
BEGIN:VEVENT
DTSTART;TZID=America/New_York:20260722T190000
DTEND;TZID=America/New_York:20260722T203000
DTSTAMP:20260423T071735
CREATED:20260422T161342Z
LAST-MODIFIED:20260422T161342Z
UID:10008174-1784746800-1784752200@nileslibrary.com
SUMMARY:The Fort St. Joseph Summer Lecture Series:  
DESCRIPTION:The Fort St. Joseph Summer Lecture Series:  \nWednesday\, July 8 | 7pm – 8:30pm | Rotunda | All Ages \n\n\nThe Fort St. Joseph Archaeological Project Presents\n\nMore information to come! \nNo registration is required. You do not need a library card to attend this FREE event.\nFor more information\, please contact Niles District Library\, at programming@nileslibrary.net or 269.683.8545.
URL:https://nileslibrary.com/single-event/the-fort-st-joseph-summer-lecture-series/2026-07-22/
END:VEVENT
END:VCALENDAR