BEGIN:VCALENDAR
VERSION:2.0
PRODID:-//Niles District Library - ECPv6.15.17.1//NONSGML v1.0//EN
CALSCALE:GREGORIAN
METHOD:PUBLISH
X-WR-CALNAME:Niles District Library
X-ORIGINAL-URL:https://nileslibrary.com
X-WR-CALDESC:Events for Niles District Library
REFRESH-INTERVAL;VALUE=DURATION:PT1H
X-Robots-Tag:noindex
X-PUBLISHED-TTL:PT1H
BEGIN:VTIMEZONE
TZID:America/New_York
BEGIN:DAYLIGHT
TZOFFSETFROM:-0500
TZOFFSETTO:-0400
TZNAME:EDT
DTSTART:20250309T070000
END:DAYLIGHT
BEGIN:STANDARD
TZOFFSETFROM:-0400
TZOFFSETTO:-0500
TZNAME:EST
DTSTART:20251102T060000
END:STANDARD
BEGIN:DAYLIGHT
TZOFFSETFROM:-0500
TZOFFSETTO:-0400
TZNAME:EDT
DTSTART:20260308T070000
END:DAYLIGHT
BEGIN:STANDARD
TZOFFSETFROM:-0400
TZOFFSETTO:-0500
TZNAME:EST
DTSTART:20261101T060000
END:STANDARD
BEGIN:DAYLIGHT
TZOFFSETFROM:-0500
TZOFFSETTO:-0400
TZNAME:EDT
DTSTART:20270314T070000
END:DAYLIGHT
BEGIN:STANDARD
TZOFFSETFROM:-0400
TZOFFSETTO:-0500
TZNAME:EST
DTSTART:20271107T060000
END:STANDARD
END:VTIMEZONE
BEGIN:VEVENT
DTSTART;TZID=America/New_York:20260815T130000
DTEND;TZID=America/New_York:20260815T140000
DTSTAMP:20260421T201319
CREATED:20260407T175217Z
LAST-MODIFIED:20260407T175217Z
UID:10008117-1786798800-1786802400@nileslibrary.com
SUMMARY:Jr. Garden Club: Hydrangea
DESCRIPTION:Jr. Garden Club: Saturday\, August 15th  @ 1 pm \nHey\, budding gardeners.  Get ready to dig into some new projects this summer! Join Ms. Ann in the Youth Services Area for a fun\, possibly messy\, nature themed program. \nTheme: Hydrangea
URL:https://nileslibrary.com/single-event/jr-garden-club-hydrangea/
CATEGORIES:Clubs
END:VEVENT
BEGIN:VEVENT
DTSTART;TZID=America/New_York:20260815T143000
DTEND;TZID=America/New_York:20260815T153000
DTSTAMP:20260421T201319
CREATED:20260407T180608Z
LAST-MODIFIED:20260407T180608Z
UID:10008120-1786804200-1786807800@nileslibrary.com
SUMMARY:Teen and Tween Green Thumbs: Hydrangea
DESCRIPTION:Teen & Tween Green Thumbs: Saturday\, August 15th  @ 2:30pm \nLooking for a program that will let your natural talents bloom?  Want to get your hands dirty at the library?  Join Ms Ann in the YS area for some good thymes. \nTheme: Hydrangea
URL:https://nileslibrary.com/single-event/teen-and-tween-green-thumbs-hydrangea/
CATEGORIES:Clubs
END:VEVENT
END:VCALENDAR