BEGIN:VCALENDAR
VERSION:2.0
PRODID:-//Niles District Library - ECPv6.15.17.1//NONSGML v1.0//EN
CALSCALE:GREGORIAN
METHOD:PUBLISH
X-ORIGINAL-URL:https://nileslibrary.com
X-WR-CALDESC:Events for Niles District Library
REFRESH-INTERVAL;VALUE=DURATION:PT1H
X-Robots-Tag:noindex
X-PUBLISHED-TTL:PT1H
BEGIN:VTIMEZONE
TZID:America/New_York
BEGIN:DAYLIGHT
TZOFFSETFROM:-0500
TZOFFSETTO:-0400
TZNAME:EDT
DTSTART:20250309T070000
END:DAYLIGHT
BEGIN:STANDARD
TZOFFSETFROM:-0400
TZOFFSETTO:-0500
TZNAME:EST
DTSTART:20251102T060000
END:STANDARD
BEGIN:DAYLIGHT
TZOFFSETFROM:-0500
TZOFFSETTO:-0400
TZNAME:EDT
DTSTART:20260308T070000
END:DAYLIGHT
BEGIN:STANDARD
TZOFFSETFROM:-0400
TZOFFSETTO:-0500
TZNAME:EST
DTSTART:20261101T060000
END:STANDARD
BEGIN:DAYLIGHT
TZOFFSETFROM:-0500
TZOFFSETTO:-0400
TZNAME:EDT
DTSTART:20270314T070000
END:DAYLIGHT
BEGIN:STANDARD
TZOFFSETFROM:-0400
TZOFFSETTO:-0500
TZNAME:EST
DTSTART:20271107T060000
END:STANDARD
END:VTIMEZONE
BEGIN:VEVENT
DTSTART;TZID=America/New_York:20260314T130000
DTEND;TZID=America/New_York:20260314T140000
DTSTAMP:20260421T132818
CREATED:20260112T224127Z
LAST-MODIFIED:20260112T224421Z
UID:10006123-1773493200-1773496800@nileslibrary.com
SUMMARY:Jr. Garden Club: Ancient Plants
DESCRIPTION:Jr. Garden Club: Saturday\, March 14th  @ 1 pm \nHey\, budding gardeners.  Get ready to dig into some new projects this summer! Join Ms. Ann in the Youth Services Area for a fun\, possibly messy\, nature themed program. \nTheme: Ancient Plants
URL:https://nileslibrary.com/single-event/jr-garden-club-ancient-plants/
CATEGORIES:Special Programs
END:VEVENT
END:VCALENDAR