BEGIN:VCALENDAR
VERSION:2.0
PRODID:-//Niles District Library - ECPv6.15.17.1//NONSGML v1.0//EN
CALSCALE:GREGORIAN
METHOD:PUBLISH
X-ORIGINAL-URL:https://nileslibrary.com
X-WR-CALDESC:Events for Niles District Library
REFRESH-INTERVAL;VALUE=DURATION:PT1H
X-Robots-Tag:noindex
X-PUBLISHED-TTL:PT1H
BEGIN:VTIMEZONE
TZID:America/New_York
BEGIN:DAYLIGHT
TZOFFSETFROM:-0500
TZOFFSETTO:-0400
TZNAME:EDT
DTSTART:20250309T070000
END:DAYLIGHT
BEGIN:STANDARD
TZOFFSETFROM:-0400
TZOFFSETTO:-0500
TZNAME:EST
DTSTART:20251102T060000
END:STANDARD
BEGIN:DAYLIGHT
TZOFFSETFROM:-0500
TZOFFSETTO:-0400
TZNAME:EDT
DTSTART:20260308T070000
END:DAYLIGHT
BEGIN:STANDARD
TZOFFSETFROM:-0400
TZOFFSETTO:-0500
TZNAME:EST
DTSTART:20261101T060000
END:STANDARD
BEGIN:DAYLIGHT
TZOFFSETFROM:-0500
TZOFFSETTO:-0400
TZNAME:EDT
DTSTART:20270314T070000
END:DAYLIGHT
BEGIN:STANDARD
TZOFFSETFROM:-0400
TZOFFSETTO:-0500
TZNAME:EST
DTSTART:20271107T060000
END:STANDARD
END:VTIMEZONE
BEGIN:VEVENT
DTSTART;TZID=America/New_York:20260723T174500
DTEND;TZID=America/New_York:20260723T193000
DTSTAMP:20260424T192959
CREATED:20260421T233835Z
LAST-MODIFIED:20260421T234053Z
UID:10008170-1784828700-1784835000@nileslibrary.com
SUMMARY:The Great Puzzle Showdown
DESCRIPTION:The Great Puzzle Showdown \nThursday\, July 23 | 5:45pm – 7:30pm | Ages 16+ \nThink you’ve got what it takes to be the fastest puzzlers around? Gather your team and join us for The Great Puzzle Showdown! Teams of 2–4 adults will race against the clock to complete a 300-piece puzzle—fastest time wins! \nCheck-in begins at 5:45 PM\, and the competition kicks off at 6 PM. Teams will have 60 minutes to finish. If no team completes their puzzle in time\, the winner will be determined by the most pieces correctly assembled. \nTeam registration is required. Call the library at 269-683-8545 (Adult Services)   \nThe Great Puzzle Showdown Rules \n\nTeam Size: Teams may consist of 2 – 4 participants.\nCheck In: 5:45 pm\, the competitions will begin promptly at 6 pm.\nPuzzle: Each team will receive the same puzzle. Boxes must remain sealed until the official start signal.\nTime Limit:  Teams will have 60 minutes to complete the puzzle.\nWinning Criteria: The first team to correctly complete their puzzle wins. If no team finishes\, the winner will be the team with the most pieces correctly assembled. 🏆 Prizes: Each member of the winning team will receive a custom 3D-printed puzzle trophy.\nWorkspace: Teams must remain at their assigned table and work within their designated space.\nAssistance: Only registered team members may participate—no outside help is allowed.\nUse of Devices: Phones\, tablets\, or other devices may not be used during the competition.\nConduct: Participants are expected to demonstrate good sportsmanship at all times. Disruptive behavior may result in disqualification.\nCompletion: Once a team believes their puzzle is complete\, they must notify staff for verification.\nCleanup: All puzzle pieces and materials must be returned to the staff at the end of the event.\n\nYou do not need a library card to attend this FREE event. \nFor more information\, please contact Niles District Library\, at programming@nileslibrary.net or 269.683.8545 ext. 116.
URL:https://nileslibrary.com/single-event/the-great-puzzle-showdown/
END:VEVENT
END:VCALENDAR