BEGIN:VCALENDAR
VERSION:2.0
PRODID:-//Niles District Library - ECPv6.15.17.1//NONSGML v1.0//EN
CALSCALE:GREGORIAN
METHOD:PUBLISH
X-ORIGINAL-URL:https://nileslibrary.com
X-WR-CALDESC:Events for Niles District Library
REFRESH-INTERVAL;VALUE=DURATION:PT1H
X-Robots-Tag:noindex
X-PUBLISHED-TTL:PT1H
BEGIN:VTIMEZONE
TZID:America/New_York
BEGIN:DAYLIGHT
TZOFFSETFROM:-0500
TZOFFSETTO:-0400
TZNAME:EDT
DTSTART:20300310T070000
END:DAYLIGHT
BEGIN:STANDARD
TZOFFSETFROM:-0400
TZOFFSETTO:-0500
TZNAME:EST
DTSTART:20301103T060000
END:STANDARD
BEGIN:DAYLIGHT
TZOFFSETFROM:-0500
TZOFFSETTO:-0400
TZNAME:EDT
DTSTART:20310309T070000
END:DAYLIGHT
BEGIN:STANDARD
TZOFFSETFROM:-0400
TZOFFSETTO:-0500
TZNAME:EST
DTSTART:20311102T060000
END:STANDARD
BEGIN:DAYLIGHT
TZOFFSETFROM:-0500
TZOFFSETTO:-0400
TZNAME:EDT
DTSTART:20320314T070000
END:DAYLIGHT
BEGIN:STANDARD
TZOFFSETFROM:-0400
TZOFFSETTO:-0500
TZNAME:EST
DTSTART:20321107T060000
END:STANDARD
END:VTIMEZONE
BEGIN:VEVENT
DTSTART;TZID=America/New_York:20310417T180000
DTEND;TZID=America/New_York:20310417T193000
DTSTAMP:20260421T055108
CREATED:20250417T135540Z
LAST-MODIFIED:20260420T175357Z
UID:10008162-1934215200-1934220600@nileslibrary.com
SUMMARY:Teen Dungeons and Dragons Club (D&D) Team B
DESCRIPTION:Thursdays | 6 – 7:30 pm | Board Room | Ages 13-18 \nTeen D&D Club Team B – A game based around role-playing as a character you\, the player designs\, in a fantasy-based world. You and the others players create adventures and become heroes of the world. The Dungeon Master weaves the tale your characters start upon\, and gives you challenges along your journey. \nRegistration is preferred but not required. To register email Youthservices@nileslibrary.net or call 269-683-8545.
URL:https://nileslibrary.com/single-event/teen-dungeons-and-dragons-club-dd-team-b-2/2031-04-17/
CATEGORIES:Clubs
END:VEVENT
END:VCALENDAR