BEGIN:VCALENDAR
VERSION:2.0
PRODID:-//Niles District Library - ECPv6.15.17.1//NONSGML v1.0//EN
CALSCALE:GREGORIAN
METHOD:PUBLISH
X-ORIGINAL-URL:https://nileslibrary.com
X-WR-CALDESC:Events for Niles District Library
REFRESH-INTERVAL;VALUE=DURATION:PT1H
X-Robots-Tag:noindex
X-PUBLISHED-TTL:PT1H
BEGIN:VTIMEZONE
TZID:America/New_York
BEGIN:DAYLIGHT
TZOFFSETFROM:-0500
TZOFFSETTO:-0400
TZNAME:EDT
DTSTART:20300310T070000
END:DAYLIGHT
BEGIN:STANDARD
TZOFFSETFROM:-0400
TZOFFSETTO:-0500
TZNAME:EST
DTSTART:20301103T060000
END:STANDARD
BEGIN:DAYLIGHT
TZOFFSETFROM:-0500
TZOFFSETTO:-0400
TZNAME:EDT
DTSTART:20310309T070000
END:DAYLIGHT
BEGIN:STANDARD
TZOFFSETFROM:-0400
TZOFFSETTO:-0500
TZNAME:EST
DTSTART:20311102T060000
END:STANDARD
BEGIN:DAYLIGHT
TZOFFSETFROM:-0500
TZOFFSETTO:-0400
TZNAME:EDT
DTSTART:20320314T070000
END:DAYLIGHT
BEGIN:STANDARD
TZOFFSETFROM:-0400
TZOFFSETTO:-0500
TZNAME:EST
DTSTART:20321107T060000
END:STANDARD
END:VTIMEZONE
BEGIN:VEVENT
DTSTART;TZID=America/New_York:20310320T180000
DTEND;TZID=America/New_York:20310320T193000
DTSTAMP:20260421T042445
CREATED:20260113T223601Z
LAST-MODIFIED:20260325T134007Z
UID:10007612-1931796000-1931801400@nileslibrary.com
SUMMARY:Dewey Crochet Group
DESCRIPTION:Dewey Crochet Group\n\n1st and 3rd Thursday of the month | 6pm – 7:30pm | Community Room | Ages 18+\n\nBring your current crochet project and enjoy a relaxing time with fellow crocheters! Beginners are welcome\, and we’re here to help you get started. Don’t have a hook? Borrow one from our Library of Things! This group is for ages 18 and up. \nNo registration is required. You do not need a library card to attend this FREE event. \nFor more information\, please contact Niles District Library\, at programming@nileslibrary.net or 269.683.8545 ext.116.
URL:https://nileslibrary.com/single-event/dewey-crochet-group-9-2-2-2/2031-03-20/
CATEGORIES:Clubs
END:VEVENT
BEGIN:VEVENT
DTSTART;TZID=America/New_York:20310321T140000
DTEND;TZID=America/New_York:20310321T160000
DTSTAMP:20260421T042445
CREATED:20260402T141317Z
LAST-MODIFIED:20260402T141317Z
UID:10007883-1931868000-1931875200@nileslibrary.com
SUMMARY:Homeschool Game Day
DESCRIPTION:Homeschool Game Day\n\nMonthly on the Third Friday | 2pm – 4pm | Community Room | Teen & Tween \nHomeschool families with teens and tweens are invited to Game Day. Bring a board game\, card game\, or puzzle and enjoy connecting with other local homeschoolers. \nNo registration is required. You do not need a library card to attend this FREE event. \nFor more information\, please contact Niles District Library\, at programming@nileslibrary.net or 269.683.8545 ext. 116.
URL:https://nileslibrary.com/single-event/homeschool-game-day/2031-03-21/
CATEGORIES:Clubs
END:VEVENT
BEGIN:VEVENT
DTSTART;TZID=America/New_York:20310327T160000
DTEND;TZID=America/New_York:20310327T173000
DTSTAMP:20260421T042445
CREATED:20250417T135755Z
LAST-MODIFIED:20260420T175310Z
UID:10008145-1932393600-1932399000@nileslibrary.com
SUMMARY:Teen Dungeons and Dragons Club (D&D) Team A
DESCRIPTION:Thursdays | 4 – 5:30 pm | Board Room | Ages 13-18 \nTeen D&D Club Team A – A game based around role-playing as a character you\, the player designs\, in a fantasy-based world. You and the others players create adventures and become heroes of the world. The Dungeon Master weaves the tale your characters start upon\, and gives you challenges along your journey.\n\nRegistration is preferred but not required. To register email Youthservices@nileslibrary.net or call 269-683-8545.
URL:https://nileslibrary.com/single-event/teen-dungeons-and-dragons-club-dd-team-a-2/2031-03-27/
CATEGORIES:Clubs
END:VEVENT
BEGIN:VEVENT
DTSTART;TZID=America/New_York:20310327T180000
DTEND;TZID=America/New_York:20310327T193000
DTSTAMP:20260421T042445
CREATED:20250417T135540Z
LAST-MODIFIED:20260420T175357Z
UID:10008159-1932400800-1932406200@nileslibrary.com
SUMMARY:Teen Dungeons and Dragons Club (D&D) Team B
DESCRIPTION:Thursdays | 6 – 7:30 pm | Board Room | Ages 13-18 \nTeen D&D Club Team B – A game based around role-playing as a character you\, the player designs\, in a fantasy-based world. You and the others players create adventures and become heroes of the world. The Dungeon Master weaves the tale your characters start upon\, and gives you challenges along your journey. \nRegistration is preferred but not required. To register email Youthservices@nileslibrary.net or call 269-683-8545.
URL:https://nileslibrary.com/single-event/teen-dungeons-and-dragons-club-dd-team-b-2/2031-03-27/
CATEGORIES:Clubs
END:VEVENT
BEGIN:VEVENT
DTSTART;TZID=America/New_York:20310329T130000
DTEND;TZID=America/New_York:20310329T150000
DTSTAMP:20260421T042445
CREATED:20260331T202841Z
LAST-MODIFIED:20260331T202842Z
UID:10007778-1932555600-1932562800@nileslibrary.com
SUMMARY:Dungeons & Dragons for Adults
DESCRIPTION:Dungeons & Dragons for Adults\nEvery other Saturday | 1 – 3 pm | Lower Level Classroom | Ages 18+  \nEmbark on an epic journey with our library-led Dungeon Master in a thrilling game of Dungeons & Dragons 5th Edition! Whether you’re a seasoned adventurer or brand new to the game\, all are welcome.  We meet every other Saturday\, and all materials will be provided. \nNo registration required. You do not need a library card to attend this FREE event. \nFor more information\, please contact Niles District Library\, at programming@nileslibrary.net or 269-683-8545. \n 
URL:https://nileslibrary.com/single-event/dungeons-dragons-for-adults-ages-18-10-3-2/2031-03-29/
CATEGORIES:Clubs
END:VEVENT
BEGIN:VEVENT
DTSTART;TZID=America/New_York:20310331T180000
DTEND;TZID=America/New_York:20310331T193000
DTSTAMP:20260421T042445
CREATED:20260331T201951Z
LAST-MODIFIED:20260331T201957Z
UID:10007737-1932746400-1932751800@nileslibrary.com
SUMMARY:Creative Writers Club
DESCRIPTION:Meets Everyother Monday | 6pm – 7:30pm | Community Room | 18+  \nAttention\, authors! Are you looking for a supportive community of fellow writers? Join us every other Monday for the Creative Writers Club! Led by English Professor Joe Coti\, sessions include learning new ideas\, free writing\, and engaging in workshopping. New members are always welcome. \n\n\nNo registration is required.  You do not need a library card to attend this FREE event. \n\nFor more information\, please contact Niles District Library\, at programming@nileslibrary.net or 269.683.8545.
URL:https://nileslibrary.com/single-event/creative-writers-club-10-4/2031-03-31/
CATEGORIES:Clubs
END:VEVENT
BEGIN:VEVENT
DTSTART;TZID=America/New_York:20310403T160000
DTEND;TZID=America/New_York:20310403T173000
DTSTAMP:20260421T042445
CREATED:20250417T135755Z
LAST-MODIFIED:20260420T175310Z
UID:10008146-1932998400-1933003800@nileslibrary.com
SUMMARY:Teen Dungeons and Dragons Club (D&D) Team A
DESCRIPTION:Thursdays | 4 – 5:30 pm | Board Room | Ages 13-18 \nTeen D&D Club Team A – A game based around role-playing as a character you\, the player designs\, in a fantasy-based world. You and the others players create adventures and become heroes of the world. The Dungeon Master weaves the tale your characters start upon\, and gives you challenges along your journey.\n\nRegistration is preferred but not required. To register email Youthservices@nileslibrary.net or call 269-683-8545.
URL:https://nileslibrary.com/single-event/teen-dungeons-and-dragons-club-dd-team-a-2/2031-04-03/
CATEGORIES:Clubs
END:VEVENT
BEGIN:VEVENT
DTSTART;TZID=America/New_York:20310403T180000
DTEND;TZID=America/New_York:20310403T193000
DTSTAMP:20260421T042445
CREATED:20250417T135540Z
LAST-MODIFIED:20260420T175357Z
UID:10008160-1933005600-1933011000@nileslibrary.com
SUMMARY:Teen Dungeons and Dragons Club (D&D) Team B
DESCRIPTION:Thursdays | 6 – 7:30 pm | Board Room | Ages 13-18 \nTeen D&D Club Team B – A game based around role-playing as a character you\, the player designs\, in a fantasy-based world. You and the others players create adventures and become heroes of the world. The Dungeon Master weaves the tale your characters start upon\, and gives you challenges along your journey. \nRegistration is preferred but not required. To register email Youthservices@nileslibrary.net or call 269-683-8545.
URL:https://nileslibrary.com/single-event/teen-dungeons-and-dragons-club-dd-team-b-2/2031-04-03/
CATEGORIES:Clubs
END:VEVENT
BEGIN:VEVENT
DTSTART;TZID=America/New_York:20310405T103000
DTEND;TZID=America/New_York:20310405T140000
DTSTAMP:20260421T042445
CREATED:20250417T140819Z
LAST-MODIFIED:20260407T170053Z
UID:10007953-1933151400-1933164000@nileslibrary.com
SUMMARY:Chess Tournament
DESCRIPTION:First Saturdays | 10:30 am – 2 pm | *Rotunda | All Ages \nChess Tournaments are for Chess Federation members. If you would like to join us for an official UCF Tournament\, stop by the Rotunda. 3R\, SWISS\, G:45 Niles District Library 10 AM show (10:30 start) \nNo registration required. You do not need a library card to attend this FREE event.
URL:https://nileslibrary.com/single-event/chess-tournament-4-2/2031-04-05/
CATEGORIES:Clubs
END:VEVENT
BEGIN:VEVENT
DTSTART;TZID=America/New_York:20310410T160000
DTEND;TZID=America/New_York:20310410T173000
DTSTAMP:20260421T042445
CREATED:20250417T135755Z
LAST-MODIFIED:20260420T175310Z
UID:10008147-1933603200-1933608600@nileslibrary.com
SUMMARY:Teen Dungeons and Dragons Club (D&D) Team A
DESCRIPTION:Thursdays | 4 – 5:30 pm | Board Room | Ages 13-18 \nTeen D&D Club Team A – A game based around role-playing as a character you\, the player designs\, in a fantasy-based world. You and the others players create adventures and become heroes of the world. The Dungeon Master weaves the tale your characters start upon\, and gives you challenges along your journey.\n\nRegistration is preferred but not required. To register email Youthservices@nileslibrary.net or call 269-683-8545.
URL:https://nileslibrary.com/single-event/teen-dungeons-and-dragons-club-dd-team-a-2/2031-04-10/
CATEGORIES:Clubs
END:VEVENT
BEGIN:VEVENT
DTSTART;TZID=America/New_York:20310410T180000
DTEND;TZID=America/New_York:20310410T193000
DTSTAMP:20260421T042445
CREATED:20250417T135540Z
LAST-MODIFIED:20260420T175357Z
UID:10008161-1933610400-1933615800@nileslibrary.com
SUMMARY:Teen Dungeons and Dragons Club (D&D) Team B
DESCRIPTION:Thursdays | 6 – 7:30 pm | Board Room | Ages 13-18 \nTeen D&D Club Team B – A game based around role-playing as a character you\, the player designs\, in a fantasy-based world. You and the others players create adventures and become heroes of the world. The Dungeon Master weaves the tale your characters start upon\, and gives you challenges along your journey. \nRegistration is preferred but not required. To register email Youthservices@nileslibrary.net or call 269-683-8545.
URL:https://nileslibrary.com/single-event/teen-dungeons-and-dragons-club-dd-team-b-2/2031-04-10/
CATEGORIES:Clubs
END:VEVENT
BEGIN:VEVENT
DTSTART;TZID=America/New_York:20310417T160000
DTEND;TZID=America/New_York:20310417T173000
DTSTAMP:20260421T042445
CREATED:20250417T135755Z
LAST-MODIFIED:20260420T175310Z
UID:10008148-1934208000-1934213400@nileslibrary.com
SUMMARY:Teen Dungeons and Dragons Club (D&D) Team A
DESCRIPTION:Thursdays | 4 – 5:30 pm | Board Room | Ages 13-18 \nTeen D&D Club Team A – A game based around role-playing as a character you\, the player designs\, in a fantasy-based world. You and the others players create adventures and become heroes of the world. The Dungeon Master weaves the tale your characters start upon\, and gives you challenges along your journey.\n\nRegistration is preferred but not required. To register email Youthservices@nileslibrary.net or call 269-683-8545.
URL:https://nileslibrary.com/single-event/teen-dungeons-and-dragons-club-dd-team-a-2/2031-04-17/
CATEGORIES:Clubs
END:VEVENT
BEGIN:VEVENT
DTSTART;TZID=America/New_York:20310417T180000
DTEND;TZID=America/New_York:20310417T193000
DTSTAMP:20260421T042445
CREATED:20250417T135540Z
LAST-MODIFIED:20260420T175357Z
UID:10008162-1934215200-1934220600@nileslibrary.com
SUMMARY:Teen Dungeons and Dragons Club (D&D) Team B
DESCRIPTION:Thursdays | 6 – 7:30 pm | Board Room | Ages 13-18 \nTeen D&D Club Team B – A game based around role-playing as a character you\, the player designs\, in a fantasy-based world. You and the others players create adventures and become heroes of the world. The Dungeon Master weaves the tale your characters start upon\, and gives you challenges along your journey. \nRegistration is preferred but not required. To register email Youthservices@nileslibrary.net or call 269-683-8545.
URL:https://nileslibrary.com/single-event/teen-dungeons-and-dragons-club-dd-team-b-2/2031-04-17/
CATEGORIES:Clubs
END:VEVENT
END:VCALENDAR