BEGIN:VCALENDAR
VERSION:2.0
PRODID:-//Niles District Library - ECPv6.15.17.1//NONSGML v1.0//EN
CALSCALE:GREGORIAN
METHOD:PUBLISH
X-WR-CALNAME:Niles District Library
X-ORIGINAL-URL:https://nileslibrary.com
X-WR-CALDESC:Events for Niles District Library
REFRESH-INTERVAL;VALUE=DURATION:PT1H
X-Robots-Tag:noindex
X-PUBLISHED-TTL:PT1H
BEGIN:VTIMEZONE
TZID:America/New_York
BEGIN:DAYLIGHT
TZOFFSETFROM:-0500
TZOFFSETTO:-0400
TZNAME:EDT
DTSTART:20300310T070000
END:DAYLIGHT
BEGIN:STANDARD
TZOFFSETFROM:-0400
TZOFFSETTO:-0500
TZNAME:EST
DTSTART:20301103T060000
END:STANDARD
BEGIN:DAYLIGHT
TZOFFSETFROM:-0500
TZOFFSETTO:-0400
TZNAME:EDT
DTSTART:20310309T070000
END:DAYLIGHT
BEGIN:STANDARD
TZOFFSETFROM:-0400
TZOFFSETTO:-0500
TZNAME:EST
DTSTART:20311102T060000
END:STANDARD
BEGIN:DAYLIGHT
TZOFFSETFROM:-0500
TZOFFSETTO:-0400
TZNAME:EDT
DTSTART:20320314T070000
END:DAYLIGHT
BEGIN:STANDARD
TZOFFSETFROM:-0400
TZOFFSETTO:-0500
TZNAME:EST
DTSTART:20321107T060000
END:STANDARD
END:VTIMEZONE
BEGIN:VEVENT
DTSTART;TZID=America/New_York:20310331T180000
DTEND;TZID=America/New_York:20310331T193000
DTSTAMP:20260422T173445
CREATED:20260331T201951Z
LAST-MODIFIED:20260331T201957Z
UID:10007737-1932746400-1932751800@nileslibrary.com
SUMMARY:Creative Writers Club
DESCRIPTION:Meets Everyother Monday | 6pm – 7:30pm | Community Room | 18+  \nAttention\, authors! Are you looking for a supportive community of fellow writers? Join us every other Monday for the Creative Writers Club! Led by English Professor Joe Coti\, sessions include learning new ideas\, free writing\, and engaging in workshopping. New members are always welcome. \n\n\nNo registration is required.  You do not need a library card to attend this FREE event. \n\nFor more information\, please contact Niles District Library\, at programming@nileslibrary.net or 269.683.8545.
URL:https://nileslibrary.com/single-event/creative-writers-club-10-4/2031-03-31/
CATEGORIES:Clubs
END:VEVENT
BEGIN:VEVENT
DTSTART;TZID=America/New_York:20310331T183000
DTEND;TZID=America/New_York:20310331T190000
DTSTAMP:20260422T173445
CREATED:20251120T165806Z
LAST-MODIFIED:20260407T150751Z
UID:10007941-1932748200-1932750000@nileslibrary.com
SUMMARY:Evening Storytime
DESCRIPTION:Mondays | 6:30 pm | Storytime Room | All Ages & Abilities \nEvening Storytime is the perfect way to enjoy a beautiful night together as a family. We will have three themed stories and wiggle songs\, followed by a craft. Feel free to wear your jammies! \nNo registration required. You do not need a library card to attend this FREE event.
URL:https://nileslibrary.com/single-event/evening-storytime-18-3/2031-03-31/
END:VEVENT
END:VCALENDAR