BEGIN:VCALENDAR
VERSION:2.0
PRODID:-//Niles District Library - ECPv6.15.17.1//NONSGML v1.0//EN
CALSCALE:GREGORIAN
METHOD:PUBLISH
X-ORIGINAL-URL:https://nileslibrary.com
X-WR-CALDESC:Events for Niles District Library
REFRESH-INTERVAL;VALUE=DURATION:PT1H
X-Robots-Tag:noindex
X-PUBLISHED-TTL:PT1H
BEGIN:VTIMEZONE
TZID:America/New_York
BEGIN:DAYLIGHT
TZOFFSETFROM:-0500
TZOFFSETTO:-0400
TZNAME:EDT
DTSTART:20300310T070000
END:DAYLIGHT
BEGIN:STANDARD
TZOFFSETFROM:-0400
TZOFFSETTO:-0500
TZNAME:EST
DTSTART:20301103T060000
END:STANDARD
BEGIN:DAYLIGHT
TZOFFSETFROM:-0500
TZOFFSETTO:-0400
TZNAME:EDT
DTSTART:20310309T070000
END:DAYLIGHT
BEGIN:STANDARD
TZOFFSETFROM:-0400
TZOFFSETTO:-0500
TZNAME:EST
DTSTART:20311102T060000
END:STANDARD
BEGIN:DAYLIGHT
TZOFFSETFROM:-0500
TZOFFSETTO:-0400
TZNAME:EDT
DTSTART:20320314T070000
END:DAYLIGHT
BEGIN:STANDARD
TZOFFSETFROM:-0400
TZOFFSETTO:-0500
TZNAME:EST
DTSTART:20321107T060000
END:STANDARD
END:VTIMEZONE
BEGIN:VEVENT
DTSTART;TZID=America/New_York:20310325T183000
DTEND;TZID=America/New_York:20310325T193000
DTSTAMP:20260422T173616
CREATED:20260420T182504Z
LAST-MODIFIED:20260420T182505Z
UID:10008169-1932229800-1932233400@nileslibrary.com
SUMMARY:Book To Table Book Club
DESCRIPTION:Book To Table Book Club\nMeeting on the 4th Tuesday of the Month | 6:30pm – 7:30pm | Board Room | Ages 18+\nLove books and tasty bites? Join Book to Table Book Club\, our unique book club where literature meets food! Each month\, we’ll gather to discuss our latest read while sharing snacks. Bring a dish to share\, and enjoy a fun\, casual conversation with fellow book lovers. Come for the books\, stay for the food.\n\n2026\nJanuary 28 – The Book Club for Troublesome Women by Marie Bostwick\nFebruary 25 – A Fever in the Heartland: The Ku Klux Klan’s Plot to Take Over America\, and the Woman Who Stopped Them by Timothy Egan\nMarch 25 – The Road to Tender Hearts by Annie Hartnett\nApril 22- Broken Country by Clare Leslie Hall\nMay 27- A Short Walk Through a Wide World by Douglas Westerbeke\nJune 24 – Great Michigan Read: Everything I Learned\, I Learned in a Chinese Restaurant by Curtis Chin\nJuly 22 – All Good People Here by  Ashley Flowers\, Alex Kiester\nAugust 26 – Playground by Richard Powers\nSeptember 23 – TBD\nOctober 28 – TBD\nNovember 25 – TBD\nDecember – No Meeting\n\n\nNo registration is required. You do not need a library card to attend this FREE event.\nFor more information about this program or other library services please email programming@nileslibrary.net or call Niles District Library at 269-683-8545.
URL:https://nileslibrary.com/single-event/book-to-table-book-club-2-2-3/2031-03-25/
CATEGORIES:Book Club
END:VEVENT
END:VCALENDAR