BEGIN:VCALENDAR
VERSION:2.0
PRODID:-//Niles District Library - ECPv6.15.17.1//NONSGML v1.0//EN
CALSCALE:GREGORIAN
METHOD:PUBLISH
X-ORIGINAL-URL:https://nileslibrary.com
X-WR-CALDESC:Events for Niles District Library
REFRESH-INTERVAL;VALUE=DURATION:PT1H
X-Robots-Tag:noindex
X-PUBLISHED-TTL:PT1H
BEGIN:VTIMEZONE
TZID:America/New_York
BEGIN:DAYLIGHT
TZOFFSETFROM:-0500
TZOFFSETTO:-0400
TZNAME:EDT
DTSTART:20240310T070000
END:DAYLIGHT
BEGIN:STANDARD
TZOFFSETFROM:-0400
TZOFFSETTO:-0500
TZNAME:EST
DTSTART:20241103T060000
END:STANDARD
BEGIN:DAYLIGHT
TZOFFSETFROM:-0500
TZOFFSETTO:-0400
TZNAME:EDT
DTSTART:20250309T070000
END:DAYLIGHT
BEGIN:STANDARD
TZOFFSETFROM:-0400
TZOFFSETTO:-0500
TZNAME:EST
DTSTART:20251102T060000
END:STANDARD
BEGIN:DAYLIGHT
TZOFFSETFROM:-0500
TZOFFSETTO:-0400
TZNAME:EDT
DTSTART:20260308T070000
END:DAYLIGHT
BEGIN:STANDARD
TZOFFSETFROM:-0400
TZOFFSETTO:-0500
TZNAME:EST
DTSTART:20261101T060000
END:STANDARD
END:VTIMEZONE
BEGIN:VEVENT
DTSTART;TZID=America/New_York:20251113T110000
DTEND;TZID=America/New_York:20251113T150000
DTSTAMP:20260424T204331
CREATED:20250723T220939Z
LAST-MODIFIED:20250723T220944Z
UID:10002439-1763031600-1763046000@nileslibrary.com
SUMMARY:MakerSpace & Library of Things Open Hours
DESCRIPTION:MakerSpace & Library of Things Open Hours\n\n\nThursdays | 11 am – 3 pm | Maker Space | Ages 18+ \nCome into the MakerSpace\, explore the Library of Things\, or utilize our space for your project. There are a variety of tools available for you to use – the possibilities are endless! \n\nMakerSpace Highlight Project – November:\nGet festive with pop-up holiday cards! We’ll provide cardstock and paper\, or feel free to bring your own favorite paper to make this fun seasonal craft uniquely yours.\n\nSome craft supplies will be available for purchase. Please bring your own specific supplies and materials for your project.\n\nAdditional MakerSpace & Library of Things Open Hours\n\nSecond Saturday of each month | 12 pm –  2 pm\n\nNo registration is required. You do not need a library card to attend this event.\n\nFor more information\, please contact Niles District Library at programming@nileslibrary.net or 269-683-8545.
URL:https://nileslibrary.com/single-event/makerspace-library-of-things-open-hours-13-2-2-2/2025-11-13/
CATEGORIES:Special Programs
END:VEVENT
BEGIN:VEVENT
DTSTART;TZID=America/New_York:20251113T163000
DTEND;TZID=America/New_York:20251113T173000
DTSTAMP:20260424T204331
CREATED:20250723T162241Z
LAST-MODIFIED:20250723T183823Z
UID:10005338-1763051400-1763055000@nileslibrary.com
SUMMARY:All Abilities Adults Bingo
DESCRIPTION:All Abilities Adults Bingo \nMonthly on the second Thursday | 4:30-5:30 pm | Ages 18+  \nAll Abilities Adults is an hour of social fun for adults with intellectual\, cognitive\, and developmental disabilities. Join us for a friendly game of bingo and enjoy a welcoming space filled with friendship and community! \nNo registration required. You do not need a library card to attend this FREE event. \n\nFor more information\, please contact Niles District Library\, at programming@nileslibrary.net or 269.683.8545. 
URL:https://nileslibrary.com/single-event/all-abilities-adults-bingo-3-2/2025-11-13/
CATEGORIES:Clubs
END:VEVENT
END:VCALENDAR