BEGIN:VCALENDAR
VERSION:2.0
PRODID:-//Niles District Library - ECPv6.15.17.1//NONSGML v1.0//EN
CALSCALE:GREGORIAN
METHOD:PUBLISH
X-WR-CALNAME:Niles District Library
X-ORIGINAL-URL:https://nileslibrary.com
X-WR-CALDESC:Events for Niles District Library
REFRESH-INTERVAL;VALUE=DURATION:PT1H
X-Robots-Tag:noindex
X-PUBLISHED-TTL:PT1H
BEGIN:VTIMEZONE
TZID:America/New_York
BEGIN:DAYLIGHT
TZOFFSETFROM:-0500
TZOFFSETTO:-0400
TZNAME:EDT
DTSTART:20240310T070000
END:DAYLIGHT
BEGIN:STANDARD
TZOFFSETFROM:-0400
TZOFFSETTO:-0500
TZNAME:EST
DTSTART:20241103T060000
END:STANDARD
BEGIN:DAYLIGHT
TZOFFSETFROM:-0500
TZOFFSETTO:-0400
TZNAME:EDT
DTSTART:20250309T070000
END:DAYLIGHT
BEGIN:STANDARD
TZOFFSETFROM:-0400
TZOFFSETTO:-0500
TZNAME:EST
DTSTART:20251102T060000
END:STANDARD
BEGIN:DAYLIGHT
TZOFFSETFROM:-0500
TZOFFSETTO:-0400
TZNAME:EDT
DTSTART:20260308T070000
END:DAYLIGHT
BEGIN:STANDARD
TZOFFSETFROM:-0400
TZOFFSETTO:-0500
TZNAME:EST
DTSTART:20261101T060000
END:STANDARD
END:VTIMEZONE
BEGIN:VEVENT
DTSTART;TZID=America/New_York:20250920T110000
DTEND;TZID=America/New_York:20250920T120000
DTSTAMP:20260421T114743
CREATED:20250724T224006Z
LAST-MODIFIED:20250725T142005Z
UID:10005418-1758366000-1758369600@nileslibrary.com
SUMMARY:Argentine Tango Beginner Class
DESCRIPTION:Argentine Tango Beginner Class\nSaturday\, September 20 | 11 am – 12 pm | Rotunda | Ages 18+ \nIf you’ve ever thought\, “I’d love to learn to dance\, but I can’t dance\,” then Argentine tango is the dance for you. With no experience or partner necessary\, you only need to come to this class of fundamental elements as you are. You’ll walk away from it with a greater sense of body awareness and connection to yourself and to your community of dancers. You’ll learn a little bit about tango music\, how to find a connection with someone you don’t yet know\, and\, yes\, how to hit that beat! \nIf you have a pair of smooth-soled shoes for dancing\, bring them along! If not\, we’ll have a few pairs of dance shoe socks available to slip over your shoes. \nBio\nEric Andrew Gingerich started his tango journey many years ago\, one night in Seoul\, South Korea. After discovering that his “hips didn’t move like that” (back then) while taking salsa classes\, he stumbled into a tango club (Argentine\, not ballroom) one night and became transfixed. Music with instruments he hadn’t yet heard of resounded through the space. Couples locked in heart-to-heart embraces walked synchronized with the beat and each other. He knew he had found his dance. Eric Andrew Gingerich has since trained with a multitude of masters\, and tango continues to take him dancing all over the world. \nNo registration is required. You do not need a library card to attend this FREE event.\n\nFor more information\, please contact Niles District Library at programming@nileslibrary.net or 269-683-8545.
URL:https://nileslibrary.com/single-event/argentine-tango-beginner-class/
CATEGORIES:Special Programs
END:VEVENT
BEGIN:VEVENT
DTSTART;TZID=America/New_York:20250920T130000
DTEND;TZID=America/New_York:20250920T150000
DTSTAMP:20260421T114743
CREATED:20250205T213039Z
LAST-MODIFIED:20250512T191816Z
UID:10001074-1758373200-1758380400@nileslibrary.com
SUMMARY:Dungeons & Dragons for Adults
DESCRIPTION:Dungeons & Dragons for Adults\nEvery other Saturday | 1 – 3 pm | Lower Level Classroom | Ages 18+  \nEmbark on an epic journey with our library-led Dungeon Master in a thrilling game of Dungeons & Dragons 5th Edition! Whether you’re a seasoned adventurer or brand new to the game\, all are welcome.  We meet every other Saturday\, and all materials will be provided. \nNo registration required. You do not need a library card to attend this FREE event. \nFor more information\, please contact Niles District Library\, at programming@nileslibrary.net or 269-683-8545. \n 
URL:https://nileslibrary.com/single-event/dungeons-dragons-for-adults-ages-18-10-3/2025-09-20/
CATEGORIES:Clubs
END:VEVENT
END:VCALENDAR