BEGIN:VCALENDAR
VERSION:2.0
PRODID:-//Niles District Library - ECPv6.15.17.1//NONSGML v1.0//EN
CALSCALE:GREGORIAN
METHOD:PUBLISH
X-WR-CALNAME:Niles District Library
X-ORIGINAL-URL:https://nileslibrary.com
X-WR-CALDESC:Events for Niles District Library
REFRESH-INTERVAL;VALUE=DURATION:PT1H
X-Robots-Tag:noindex
X-PUBLISHED-TTL:PT1H
BEGIN:VTIMEZONE
TZID:America/New_York
BEGIN:DAYLIGHT
TZOFFSETFROM:-0500
TZOFFSETTO:-0400
TZNAME:EDT
DTSTART:20240310T070000
END:DAYLIGHT
BEGIN:STANDARD
TZOFFSETFROM:-0400
TZOFFSETTO:-0500
TZNAME:EST
DTSTART:20241103T060000
END:STANDARD
BEGIN:DAYLIGHT
TZOFFSETFROM:-0500
TZOFFSETTO:-0400
TZNAME:EDT
DTSTART:20250309T070000
END:DAYLIGHT
BEGIN:STANDARD
TZOFFSETFROM:-0400
TZOFFSETTO:-0500
TZNAME:EST
DTSTART:20251102T060000
END:STANDARD
BEGIN:DAYLIGHT
TZOFFSETFROM:-0500
TZOFFSETTO:-0400
TZNAME:EDT
DTSTART:20260308T070000
END:DAYLIGHT
BEGIN:STANDARD
TZOFFSETFROM:-0400
TZOFFSETTO:-0500
TZNAME:EST
DTSTART:20261101T060000
END:STANDARD
END:VTIMEZONE
BEGIN:VEVENT
DTSTART;TZID=America/New_York:20250911T110000
DTEND;TZID=America/New_York:20250911T150000
DTSTAMP:20260420T205659
CREATED:20250723T213607Z
LAST-MODIFIED:20250723T220430Z
UID:10002430-1757588400-1757602800@nileslibrary.com
SUMMARY:MakerSpace & Library of Things Open Hours
DESCRIPTION:MakerSpace & Library of Things Open Hours\n\n\nThursdays | 11 am – 3 pm | Maker Space | Ages 18+ \nCome into the MakerSpace\, explore the Library of Things\, or utilize our space for your project. There are a variety of tools available for you to use – the possibilities are endless! \n\nMakerSpace Highlight Project – September: Create your own custom tote bag or t-shirt! We’ll provide the vinyl — just bring your own shirt or bag to personalize.\n\nSome craft supplies will be available for purchase. Please bring your own specific supplies and materials for your project.\n\nAdditional MakerSpace & Library of Things Open Hours\n\nSecond Saturday of each month | 12 pm –  2 pm\n\nNo registration is required. You do not need a library card to attend this event.\n\nFor more information\, please contact Niles District Library at programming@nileslibrary.net or 269-683-8545.
URL:https://nileslibrary.com/single-event/makerspace-library-of-things-open-hours-13-2/2025-09-11/
CATEGORIES:Special Programs
END:VEVENT
BEGIN:VEVENT
DTSTART;TZID=America/New_York:20250911T163000
DTEND;TZID=America/New_York:20250911T173000
DTSTAMP:20260420T205659
CREATED:20250723T162241Z
LAST-MODIFIED:20250723T183823Z
UID:10005336-1757608200-1757611800@nileslibrary.com
SUMMARY:All Abilities Adults Bingo
DESCRIPTION:All Abilities Adults Bingo \nMonthly on the second Thursday | 4:30-5:30 pm | Ages 18+  \nAll Abilities Adults is an hour of social fun for adults with intellectual\, cognitive\, and developmental disabilities. Join us for a friendly game of bingo and enjoy a welcoming space filled with friendship and community! \nNo registration required. You do not need a library card to attend this FREE event. \n\nFor more information\, please contact Niles District Library\, at programming@nileslibrary.net or 269.683.8545. 
URL:https://nileslibrary.com/single-event/all-abilities-adults-bingo-3-2/2025-09-11/
CATEGORIES:Clubs
END:VEVENT
BEGIN:VEVENT
DTSTART;TZID=America/New_York:20250911T180000
DTEND;TZID=America/New_York:20250911T193000
DTSTAMP:20260420T205659
CREATED:20250723T190152Z
LAST-MODIFIED:20250812T210452Z
UID:10005414-1757613600-1757619000@nileslibrary.com
SUMMARY:Uncorking History: The Evolution of Southwest Michigan Wine
DESCRIPTION:Uncorking History: The Evolution of Southwest Michigan Wine\n\nThursday\, September 11 | 6pm – 7:30pm | Community Room | Ages 18+ \nExperience the history of Southwest Michigan wine like never before. Steve transforms storytelling into an interactive journey where the audience is part of the conversation. Drawing on his family’s legacy as pioneering grape growers\, he weaves personal memories with vivid tales of the region’s rise to prominence\, from humble beginnings to over thirty wineries today. Engaging\, entertaining\, and uniquely candid\, this talk offers an insider’s view of Michigan’s wine industry\, past and present. \nNo registration is required. You do not need a library card to attend this FREE event. \nFor more information\, please contact the Niles District Library\, at programming@nileslibrary.net or 269-683-8545. \nBio\nSteve Salisbury is the creator and host of If Vines Could Talk\, a podcast dedicated to celebrating Michigan’s vibrant wine industry. Through engaging interviews\, tastings\, and educational episodes\, Steve explores the stories\, people\, and heritage behind Michigan wines. Steve’s journey with wine began in 1968 when his father planted the first French wine grapes in Michigan\, sparking a movement that would transform the region. As a teenager\, he worked in production wineries and helped cultivate over 100 grape varieties in his family’s experimental vineyards. This hands-on experience deepened his understanding of the art and science of winemaking. After earning his WSET2 diploma and retiring from a corporate career\, Steve reignited his passion for Michigan wine by launching If Vines Could Talk. Today\, he also offers private tastings and delivers captivating talks that bring the history and craftsmanship of Southwest Michigan winemaking to life. Tune in to If Vines Could Talk on your favorite podcast platform to explore the vibrant stories of Michigan wine. Follow Steve on Facebook and Instagram to stay connected and discover how his storytelling and tastings bring Michigan’s winemaking heritage to life in unforgettable ways.
URL:https://nileslibrary.com/single-event/uncorking-history-the-evolution-of-southwest-michigan-wine/
CATEGORIES:Special Programs
END:VEVENT
END:VCALENDAR