BEGIN:VCALENDAR
VERSION:2.0
PRODID:-//Niles District Library - ECPv6.15.17.1//NONSGML v1.0//EN
CALSCALE:GREGORIAN
METHOD:PUBLISH
X-WR-CALNAME:Niles District Library
X-ORIGINAL-URL:https://nileslibrary.com
X-WR-CALDESC:Events for Niles District Library
REFRESH-INTERVAL;VALUE=DURATION:PT1H
X-Robots-Tag:noindex
X-PUBLISHED-TTL:PT1H
BEGIN:VTIMEZONE
TZID:America/New_York
BEGIN:DAYLIGHT
TZOFFSETFROM:-0500
TZOFFSETTO:-0400
TZNAME:EDT
DTSTART:20240310T070000
END:DAYLIGHT
BEGIN:STANDARD
TZOFFSETFROM:-0400
TZOFFSETTO:-0500
TZNAME:EST
DTSTART:20241103T060000
END:STANDARD
BEGIN:DAYLIGHT
TZOFFSETFROM:-0500
TZOFFSETTO:-0400
TZNAME:EDT
DTSTART:20250309T070000
END:DAYLIGHT
BEGIN:STANDARD
TZOFFSETFROM:-0400
TZOFFSETTO:-0500
TZNAME:EST
DTSTART:20251102T060000
END:STANDARD
BEGIN:DAYLIGHT
TZOFFSETFROM:-0500
TZOFFSETTO:-0400
TZNAME:EDT
DTSTART:20260308T070000
END:DAYLIGHT
BEGIN:STANDARD
TZOFFSETFROM:-0400
TZOFFSETTO:-0500
TZNAME:EST
DTSTART:20261101T060000
END:STANDARD
END:VTIMEZONE
BEGIN:VEVENT
DTSTART;TZID=America/New_York:20250617T180000
DTEND;TZID=America/New_York:20250617T190000
DTSTAMP:20260419T160758
CREATED:20250417T175600Z
LAST-MODIFIED:20250616T200037Z
UID:10005046-1750183200-1750186800@nileslibrary.com
SUMMARY:Postponed! Coffee With A Lawyer: Estate Planning
DESCRIPTION:Important Update: Coffee With A Lawyer: Estate Planning with Gwendolyn Powell Braswell\,  Legacy Counsel\, Trust & Estate Law \nDue to unforeseen circumstances\, this event\, originally scheduled for Tuesday\, June 17th\, has been postponed. The event will now take place on Tuesday\, July 15th\, from 6 pm to 7 pm. We sincerely apologize for any inconvenience this may cause and appreciate your understanding. \nGot legal questions about a specific topic? Join us for a relaxed coffee hour with a local attorney—each session focuses on a different area of law. \nYou’ll meet a lawyer from our community who’s here to offer insight and guidance. We’ll provide the coffee—you bring the questions. \nAdditional Dates:  \n\nTuesday\, July 15- Estate Planning with Gwendolyn Powell Braswell\,  Legacy Counsel Trust & Estate Law.\nFriday\, June 27 – Bankruptcy with Thomas R. Betker\, Armstrong\, Betker & Schaeffer PLC\n\nNo registration required. You do not need a library card to attend this FREE event. \nFor more information\, please contact Niles District Library\, at programming@nileslibrary.net or 269-683-8545 ext. 116.
URL:https://nileslibrary.com/single-event/coffee-with-a-lawyer-estate-planning/
CATEGORIES:Special Programs
END:VEVENT
END:VCALENDAR