BEGIN:VCALENDAR
VERSION:2.0
PRODID:-//Niles District Library - ECPv6.15.17.1//NONSGML v1.0//EN
CALSCALE:GREGORIAN
METHOD:PUBLISH
X-WR-CALNAME:Niles District Library
X-ORIGINAL-URL:https://nileslibrary.com
X-WR-CALDESC:Events for Niles District Library
REFRESH-INTERVAL;VALUE=DURATION:PT1H
X-Robots-Tag:noindex
X-PUBLISHED-TTL:PT1H
BEGIN:VTIMEZONE
TZID:America/New_York
BEGIN:DAYLIGHT
TZOFFSETFROM:-0500
TZOFFSETTO:-0400
TZNAME:EDT
DTSTART:20230312T070000
END:DAYLIGHT
BEGIN:STANDARD
TZOFFSETFROM:-0400
TZOFFSETTO:-0500
TZNAME:EST
DTSTART:20231105T060000
END:STANDARD
BEGIN:DAYLIGHT
TZOFFSETFROM:-0500
TZOFFSETTO:-0400
TZNAME:EDT
DTSTART:20240310T070000
END:DAYLIGHT
BEGIN:STANDARD
TZOFFSETFROM:-0400
TZOFFSETTO:-0500
TZNAME:EST
DTSTART:20241103T060000
END:STANDARD
BEGIN:DAYLIGHT
TZOFFSETFROM:-0500
TZOFFSETTO:-0400
TZNAME:EDT
DTSTART:20250309T070000
END:DAYLIGHT
BEGIN:STANDARD
TZOFFSETFROM:-0400
TZOFFSETTO:-0500
TZNAME:EST
DTSTART:20251102T060000
END:STANDARD
END:VTIMEZONE
BEGIN:VEVENT
DTSTART;TZID=America/New_York:20241230T153000
DTEND;TZID=America/New_York:20241230T170000
DTSTAMP:20260422T234037
CREATED:20241031T173051Z
LAST-MODIFIED:20241106T230127Z
UID:10000350-1735572600-1735578000@nileslibrary.com
SUMMARY:Elf: The Interactive Movie
DESCRIPTION:Elf: The Interactive Movie\nSaturday\, December 28 | 3:30 – 5 pm | Community Room | Ages 12+\n\nLooking for something fun to do over Winter Break? Join us for an interactive viewing of the movie Elf! Be prepared to talk\, eat\, and laugh as you take an active part in the movie experience! Not for the serious movie watcher.\nNo registration required. You do not need a library card to attend this FREE event. \nFor more information about this program or other library services please email programming@nileslibrary.net or call NDL at 269-683-8545.
URL:https://nileslibrary.com/single-event/elf-the-interactive-movie/
CATEGORIES:Special Programs
END:VEVENT
BEGIN:VEVENT
DTSTART;TZID=America/New_York:20241230T180000
DTEND;TZID=America/New_York:20241230T193000
DTSTAMP:20260422T234037
CREATED:20241031T172910Z
LAST-MODIFIED:20241106T230320Z
UID:10000301-1735581600-1735587000@nileslibrary.com
SUMMARY:Creative Writers Club
DESCRIPTION:Creative Writers Club\nEvery other Monday | 6 – 7:30 pm | Community Room | Ages 18+ \nCalling all authors! Connect\, share\, and create with fellow local writers at the Creative Writers Club\, led by English Professor Joe Coti.\nNo registration required. You do not need a library card to attend this FREE event.\n\nFor more information about this program or other library services please email programming@nileslibrary.net or call NDL at 269-683-8545.
URL:https://nileslibrary.com/single-event/creative-writers-club-9/
CATEGORIES:Clubs
END:VEVENT
BEGIN:VEVENT
DTSTART;TZID=America/New_York:20241230T183000
DTEND;TZID=America/New_York:20241230T193000
DTSTAMP:20260422T234037
CREATED:20241031T172331Z
LAST-MODIFIED:20241106T230524Z
UID:10000154-1735583400-1735587000@nileslibrary.com
SUMMARY:Evening Storytime
DESCRIPTION:Evening Storytime\nMondays | 6:30 pm | Storytime Room | All Ages & Abilities \nEvening Storytime is the perfect way to enjoy a beautiful night together as a family. We will have three themed stories and wiggle songs\, followed by a craft. Feel free to wear your jammies!\nNo registration required. You do not need a library card to attend this FREE event
URL:https://nileslibrary.com/single-event/evening-storytime-17/
END:VEVENT
END:VCALENDAR