BEGIN:VCALENDAR
VERSION:2.0
PRODID:-//Niles District Library - ECPv6.15.17.1//NONSGML v1.0//EN
CALSCALE:GREGORIAN
METHOD:PUBLISH
X-WR-CALNAME:Niles District Library
X-ORIGINAL-URL:https://nileslibrary.com
X-WR-CALDESC:Events for Niles District Library
REFRESH-INTERVAL;VALUE=DURATION:PT1H
X-Robots-Tag:noindex
X-PUBLISHED-TTL:PT1H
BEGIN:VTIMEZONE
TZID:America/New_York
BEGIN:DAYLIGHT
TZOFFSETFROM:-0500
TZOFFSETTO:-0400
TZNAME:EDT
DTSTART:20230312T070000
END:DAYLIGHT
BEGIN:STANDARD
TZOFFSETFROM:-0400
TZOFFSETTO:-0500
TZNAME:EST
DTSTART:20231105T060000
END:STANDARD
BEGIN:DAYLIGHT
TZOFFSETFROM:-0500
TZOFFSETTO:-0400
TZNAME:EDT
DTSTART:20240310T070000
END:DAYLIGHT
BEGIN:STANDARD
TZOFFSETFROM:-0400
TZOFFSETTO:-0500
TZNAME:EST
DTSTART:20241103T060000
END:STANDARD
BEGIN:DAYLIGHT
TZOFFSETFROM:-0500
TZOFFSETTO:-0400
TZNAME:EDT
DTSTART:20250309T070000
END:DAYLIGHT
BEGIN:STANDARD
TZOFFSETFROM:-0400
TZOFFSETTO:-0500
TZNAME:EST
DTSTART:20251102T060000
END:STANDARD
END:VTIMEZONE
BEGIN:VEVENT
DTSTART;TZID=America/New_York:20241228T130000
DTEND;TZID=America/New_York:20241228T140000
DTSTAMP:20260423T022809
CREATED:20241031T172847Z
LAST-MODIFIED:20241226T211319Z
UID:10000283-1735390800-1735394400@nileslibrary.com
SUMMARY:Diamond Art Bookmarks | Teens and Tweens
DESCRIPTION:Diamond Art Bookmarks | Teens & Tweens\nSaturday\, December 28 | 1 pm | Patti’s Place | Ages 10-18 | Registration Required \nCalling all crafty teens! We will have dog and cat themed diamond art bookmarks\, snacks\, and fun conversations. Registration is required to attend this FREE event. You do not need to be a library cardholder to participate.
URL:https://nileslibrary.com/single-event/diamond-art-bookmarks-for-teens-and-tweens/
CATEGORIES:Special Programs
END:VEVENT
BEGIN:VEVENT
DTSTART;TZID=America/New_York:20241228T130000
DTEND;TZID=America/New_York:20241228T150000
DTSTAMP:20260423T022809
CREATED:20241031T173027Z
LAST-MODIFIED:20241106T230041Z
UID:10000335-1735390800-1735398000@nileslibrary.com
SUMMARY:Dungeons & Dragons for Adults Ages 18+
DESCRIPTION:Dungeons & Dragons for Adults\nEvery other Saturday | 1 – 3 pm | Lower Level Classroom | Ages 18+  \nEmbark on an epic adventure with our library-led Dungeon Master in a game of Dungeons & Dragons! We meet every other Saturday\, and all materials will be provided. New players may bring their favorite dice and get ready to build their character!\nNo registration required. You do not need a library card to attend this FREE event. \nFor more information about this program or other library services please email programming@nileslibrary.net or call NDL at 269-683-8545.
URL:https://nileslibrary.com/single-event/dungeons-dragons-for-adults-ages-18-9/
CATEGORIES:Clubs
END:VEVENT
END:VCALENDAR