BEGIN:VCALENDAR
VERSION:2.0
PRODID:-//Niles District Library - ECPv6.15.17.1//NONSGML v1.0//EN
CALSCALE:GREGORIAN
METHOD:PUBLISH
X-ORIGINAL-URL:https://nileslibrary.com
X-WR-CALDESC:Events for Niles District Library
REFRESH-INTERVAL;VALUE=DURATION:PT1H
X-Robots-Tag:noindex
X-PUBLISHED-TTL:PT1H
BEGIN:VTIMEZONE
TZID:America/New_York
BEGIN:DAYLIGHT
TZOFFSETFROM:-0500
TZOFFSETTO:-0400
TZNAME:EDT
DTSTART:20230312T070000
END:DAYLIGHT
BEGIN:STANDARD
TZOFFSETFROM:-0400
TZOFFSETTO:-0500
TZNAME:EST
DTSTART:20231105T060000
END:STANDARD
BEGIN:DAYLIGHT
TZOFFSETFROM:-0500
TZOFFSETTO:-0400
TZNAME:EDT
DTSTART:20240310T070000
END:DAYLIGHT
BEGIN:STANDARD
TZOFFSETFROM:-0400
TZOFFSETTO:-0500
TZNAME:EST
DTSTART:20241103T060000
END:STANDARD
BEGIN:DAYLIGHT
TZOFFSETFROM:-0500
TZOFFSETTO:-0400
TZNAME:EDT
DTSTART:20250309T070000
END:DAYLIGHT
BEGIN:STANDARD
TZOFFSETFROM:-0400
TZOFFSETTO:-0500
TZNAME:EST
DTSTART:20251102T060000
END:STANDARD
END:VTIMEZONE
BEGIN:VEVENT
DTSTART;TZID=America/New_York:20241226T103000
DTEND;TZID=America/New_York:20241226T110000
DTSTAMP:20260423T052610
CREATED:20241031T172839Z
LAST-MODIFIED:20241105T205628Z
UID:10000269-1735209000-1735210800@nileslibrary.com
SUMMARY:Preschool Storytime
DESCRIPTION:Preschool Storytime\nWednesdays & Thursdays | 10:30-11 am | Storytime Room | All Ages & Abilities \nJoin us for Storytime! There will be three stories\, two songs\, and a craft. All ages and abilities welcome. This Storytime introduces preschool concepts and routines to prepare your little one for school. No registration required. You do not need a library card to attend this FREE event.
URL:https://nileslibrary.com/single-event/preschool-storytime-31/
END:VEVENT
BEGIN:VEVENT
DTSTART;TZID=America/New_York:20241226T160000
DTEND;TZID=America/New_York:20241226T173000
DTSTAMP:20260423T052610
CREATED:20241031T172605Z
LAST-MODIFIED:20241105T205651Z
UID:10000201-1735228800-1735234200@nileslibrary.com
SUMMARY:Teen Dungeons & Dragons Club Team A
DESCRIPTION:Teen Dungeons and Dragons Club (D&D) Team A\nThursdays | 4 – 5:30 pm | Board Room | Ages 13-18 \nTeen D&D Club Team A – A game based around role-playing as a character you\, the player designs\, in a fantasy-based world. You and the others players create adventures and become heroes of the world. The Dungeon Master weaves the tale your characters start upon\, and gives you challenges along your journey.\n\nRegistration is preferred but not required. To register email Youthservices@nileslibrary.net or call 269-683-8545. 
URL:https://nileslibrary.com/single-event/teen-dungeons-dragons-club-team-a-15/
CATEGORIES:Clubs
END:VEVENT
BEGIN:VEVENT
DTSTART;TZID=America/New_York:20241226T180000
DTEND;TZID=America/New_York:20241226T193000
DTSTAMP:20260423T052610
CREATED:20241031T172641Z
LAST-MODIFIED:20241105T205714Z
UID:10000216-1735236000-1735241400@nileslibrary.com
SUMMARY:Teen Dungeons & Dragons Club Team B
DESCRIPTION:Teen Dungeons and Dragons Club (D&D) Team B\nThursdays | 6 – 7:30 pm | Board Room | Ages 13-18 \nTeen D&D Club Team B – A game based around role-playing as a character you\, the player designs\, in a fantasy-based world. You and the others players create adventures and become heroes of the world. The Dungeon Master weaves the tale your characters start upon\, and gives you challenges along your journey. \nRegistration is preferred but not required. To register email Youthservices@nileslibrary.net or call 269-683-8545.
URL:https://nileslibrary.com/single-event/teen-dungeons-dragons-club-team-b-15/
CATEGORIES:Clubs
END:VEVENT
END:VCALENDAR