BEGIN:VCALENDAR
VERSION:2.0
PRODID:-//Niles District Library - ECPv6.15.17.1//NONSGML v1.0//EN
CALSCALE:GREGORIAN
METHOD:PUBLISH
X-WR-CALNAME:Niles District Library
X-ORIGINAL-URL:https://nileslibrary.com
X-WR-CALDESC:Events for Niles District Library
REFRESH-INTERVAL;VALUE=DURATION:PT1H
X-Robots-Tag:noindex
X-PUBLISHED-TTL:PT1H
BEGIN:VTIMEZONE
TZID:America/New_York
BEGIN:DAYLIGHT
TZOFFSETFROM:-0500
TZOFFSETTO:-0400
TZNAME:EDT
DTSTART:20230312T070000
END:DAYLIGHT
BEGIN:STANDARD
TZOFFSETFROM:-0400
TZOFFSETTO:-0500
TZNAME:EST
DTSTART:20231105T060000
END:STANDARD
BEGIN:DAYLIGHT
TZOFFSETFROM:-0500
TZOFFSETTO:-0400
TZNAME:EDT
DTSTART:20240310T070000
END:DAYLIGHT
BEGIN:STANDARD
TZOFFSETFROM:-0400
TZOFFSETTO:-0500
TZNAME:EST
DTSTART:20241103T060000
END:STANDARD
BEGIN:DAYLIGHT
TZOFFSETFROM:-0500
TZOFFSETTO:-0400
TZNAME:EDT
DTSTART:20250309T070000
END:DAYLIGHT
BEGIN:STANDARD
TZOFFSETFROM:-0400
TZOFFSETTO:-0500
TZNAME:EST
DTSTART:20251102T060000
END:STANDARD
END:VTIMEZONE
BEGIN:VEVENT
DTSTART;TZID=America/New_York:20241214T110000
DTEND;TZID=America/New_York:20241214T120000
DTSTAMP:20260424T003032
CREATED:20241031T172847Z
LAST-MODIFIED:20241106T201410Z
UID:10000282-1734174000-1734177600@nileslibrary.com
SUMMARY:Gingerbread House Craft
DESCRIPTION:Gingerbread House Craft\nSaturday\, December 14 | 11 am | Youth Services | Ages 3-12 | Registration Required. \nBuild your very own foam gingerbread house with us here at the library! Registration is required to attend this FREE event. You do not need to be a library cardholder to participate. \n 
URL:https://nileslibrary.com/single-event/gingerbread-house-craft/
CATEGORIES:Special Programs
END:VEVENT
BEGIN:VEVENT
DTSTART;TZID=America/New_York:20241214T110000
DTEND;TZID=America/New_York:20241214T130000
DTSTAMP:20260424T003032
CREATED:20241031T173034Z
LAST-MODIFIED:20241105T001749Z
UID:10000340-1734174000-1734181200@nileslibrary.com
SUMMARY:Adults Arts & Crafts
DESCRIPTION:Adult Arts & Crafts\n2nd Saturdays | MakerSpace | 11 am – 1 pm | Adult 18+ \n\nJoin us for a new craft project each month! Space and supplies are limited\, so be sure to register in advance. To reserve your spot\, call 269-683-8545 or email programming@nileslibrary.\nNo registration required. You do not need a library card to attend this FREE event. \nFor more information about this program or other library services please email programming@nileslibrary.net or call NDL Library at 269-683-8545.
URL:https://nileslibrary.com/single-event/adults-arts-crafts-5/
END:VEVENT
BEGIN:VEVENT
DTSTART;TZID=America/New_York:20241214T120000
DTEND;TZID=America/New_York:20241214T140000
DTSTAMP:20260424T003032
CREATED:20241031T173050Z
LAST-MODIFIED:20241105T001855Z
UID:10000349-1734177600-1734184800@nileslibrary.com
SUMMARY:MakerSpace & Library of Things Open Hours
DESCRIPTION:MakerSpace & Library of Things Open Hours\nSecond Saturdays | 12 pm – 2 pm | MakerSpace | Ages 18+ \nCome into the MakerSpace\, explore the Library of Things\, or utilize our space for your project. There are a variety of tools available for you to use – the possibilities are endless!\nSome craft supplies will be available for purchase. Please bring your own specific supplies and materials for your project.\n\nNo registration required. You do not need a library card to attend this FREE event. \nFor more information about this program or other library services please email programming@nileslibrary.net or call NDL at 269-683-8545. \n \nMakerSpace & Library of Things Additional Open Hours: \n\nFirst Monday of each month | 1 pm – 3 pm\nFourth Wednesday of each month | 5:30 pm – 7:30 pm
URL:https://nileslibrary.com/single-event/makerspace-library-of-things-open-hours-9/
END:VEVENT
BEGIN:VEVENT
DTSTART;TZID=America/New_York:20241214T130000
DTEND;TZID=America/New_York:20241214T150000
DTSTAMP:20260424T003032
CREATED:20241031T173027Z
LAST-MODIFIED:20241105T001924Z
UID:10000334-1734181200-1734188400@nileslibrary.com
SUMMARY:Dungeons & Dragons for Adults Ages 18+
DESCRIPTION:Dungeons & Dragons for Adults Ages 18+\nEvery other Saturday | 1 – 3 pm | Lower Level Classroom | Ages 18+  \nEmbark on an epic adventure with our library-led Dungeon Master in a game of Dungeons & Dragons! We meet every other Saturday\, and all materials will be provided. New players may bring their favorite dice and get ready to build their character! \nNo registration required. You do not need a library card to attend this FREE event. \nFor more information about this program or other library services please email programming@nileslibrary.net or call NDL Library at 269-683-8545.
URL:https://nileslibrary.com/single-event/dungeons-dragons-for-adults-ages-18-8/
CATEGORIES:Clubs
END:VEVENT
BEGIN:VEVENT
DTSTART;TZID=America/New_York:20241214T130000
DTEND;TZID=America/New_York:20241214T160000
DTSTAMP:20260424T003032
CREATED:20241031T172903Z
LAST-MODIFIED:20241105T002012Z
UID:10000290-1734181200-1734192000@nileslibrary.com
SUMMARY:Gamer Space
DESCRIPTION:Gamer Space\nSecond Saturdays | 1 – 4 pm | Lower Level Classroom* | Ages 12+  \nAttention Gamers! Looking for a place to play video games\, card games\, or tabletop games with friends? Gamer Space is an open-house program where individuals\, families\, and groups can bring their games or choose from our Library of Things. \nNo registration required. You do not need a library card to attend this FREE event.\nFor more information about this program or other library services please email programming@nileslibrary.net or call NDL at 269-683-8545. \n *Please note that room locations may change due to availability.  \n 
URL:https://nileslibrary.com/single-event/gamer-space-3/
END:VEVENT
END:VCALENDAR