BEGIN:VCALENDAR
VERSION:2.0
PRODID:-//Niles District Library - ECPv6.15.17.1//NONSGML v1.0//EN
CALSCALE:GREGORIAN
METHOD:PUBLISH
X-ORIGINAL-URL:https://nileslibrary.com
X-WR-CALDESC:Events for Niles District Library
REFRESH-INTERVAL;VALUE=DURATION:PT1H
X-Robots-Tag:noindex
X-PUBLISHED-TTL:PT1H
BEGIN:VTIMEZONE
TZID:America/New_York
BEGIN:DAYLIGHT
TZOFFSETFROM:-0500
TZOFFSETTO:-0400
TZNAME:EDT
DTSTART:20230312T070000
END:DAYLIGHT
BEGIN:STANDARD
TZOFFSETFROM:-0400
TZOFFSETTO:-0500
TZNAME:EST
DTSTART:20231105T060000
END:STANDARD
BEGIN:DAYLIGHT
TZOFFSETFROM:-0500
TZOFFSETTO:-0400
TZNAME:EDT
DTSTART:20240310T070000
END:DAYLIGHT
BEGIN:STANDARD
TZOFFSETFROM:-0400
TZOFFSETTO:-0500
TZNAME:EST
DTSTART:20241103T060000
END:STANDARD
BEGIN:DAYLIGHT
TZOFFSETFROM:-0500
TZOFFSETTO:-0400
TZNAME:EDT
DTSTART:20250309T070000
END:DAYLIGHT
BEGIN:STANDARD
TZOFFSETFROM:-0400
TZOFFSETTO:-0500
TZNAME:EST
DTSTART:20251102T060000
END:STANDARD
END:VTIMEZONE
BEGIN:VEVENT
DTSTART;TZID=America/New_York:20241207T103000
DTEND;TZID=America/New_York:20241207T120000
DTSTAMP:20260424T104249
CREATED:20241031T173000Z
LAST-MODIFIED:20241104T225728Z
UID:10000324-1733567400-1733572800@nileslibrary.com
SUMMARY:TreeClimbers Genealogy Group
DESCRIPTION:TreeClimbers Genealogy Group \nFirst Saturdays | 10:30 am – 12 pm | Board Room | Ages 18+\n\nGet started on the journey of uncovering your family history! No experience is required to participate in the TreeClimbers group; beginners are welcome! Join us to share your findings and support others in their own family quest!  \nNo registration required. You do not need a library card to attend this FREE event.\nFor more information about this program or other library services please email programming@nileslibrary.net or call NDL at 269-683-8545.\n\nNiles District Library’s Local History and genealogical materials are available during normal operating hours. 
URL:https://nileslibrary.com/single-event/treeclimbers-genealogy-group-4/
CATEGORIES:Clubs
END:VEVENT
BEGIN:VEVENT
DTSTART;TZID=America/New_York:20241207T130000
DTEND;TZID=America/New_York:20241207T140000
DTSTAMP:20260424T104249
CREATED:20241031T172839Z
LAST-MODIFIED:20241104T233251Z
UID:10000271-1733576400-1733580000@nileslibrary.com
SUMMARY:Jr. Garden Club
DESCRIPTION:Jr. Garden Club\nSelect Saturdays | 1 – 2 pm | Youth Services | Ages 3-12 \nHey\, budding gardeners.  Get ready to dig into some new projects this summer! Join Ms. Ann in the Youth Services Area for a fun\, possibly messy\, nature themed program. No registration required. You do not need a library card to attend this FREE event. \nDecember 7: Creative Pinecones
URL:https://nileslibrary.com/single-event/jr-garden-club-4/
CATEGORIES:Clubs
END:VEVENT
BEGIN:VEVENT
DTSTART;TZID=America/New_York:20241207T140000
DTEND;TZID=America/New_York:20241207T160000
DTSTAMP:20260424T104249
CREATED:20241031T173051Z
LAST-MODIFIED:20241203T225057Z
UID:10000351-1733580000-1733587200@nileslibrary.com
SUMMARY:Nerf Game Day
DESCRIPTION:Nerf Game Day\n1st Saturdays: December 7 –  March 1 | 2 – 4 pm | Lower Level | Ages 8+ \nJoin us for an afternoon of Nerf gameplay filled with fun and adventure! Grab your Nerf blasters and get ready for an action-packed day of games and excitement!\nPre-registration is required. Please call 269-683-8545 to register.  \n\nA Waiver of Liability must signed before the event (waiver must be signed by a parent or legal guardian if under 18 years old).\nYou must be eight years old or older to participate. Children under the age of ten years old must have a parent with them at all times.\nAnyone participating must wear protective eyewear during active gameplay; prescription eyeglasses are allowed.\nGame day sign-in begins at 1 pm in the Community Room. Game play will start at 2 pm.\n\nSupplies for game day \n\nYour Nerf Blaster (the library has limited blasters available for use.) (No melee weapons permitted.)\nNDL Nerf darts are used at this event\, so please leave your darts at home.\nSafety glasses (the library has limited safety glasses available for use.)\n\nPre-registration required. You do not need a library card to attend this FREE event. \nFor more information about this program or other library services please email programming@nileslibrary.net or call NDL at 269-683-8545. \n  \n 
URL:https://nileslibrary.com/single-event/nerf-game-day/
END:VEVENT
BEGIN:VEVENT
DTSTART;TZID=America/New_York:20241207T150000
DTEND;TZID=America/New_York:20241207T160000
DTSTAMP:20260424T104249
CREATED:20241031T172840Z
LAST-MODIFIED:20241104T234858Z
UID:10000272-1733583600-1733587200@nileslibrary.com
SUMMARY:Tween and Teen Green Thumbs
DESCRIPTION:Tween & Teen Green Thumbs\nSelect Saturdays | 3 – 4 pm | Patti’s Place | Ages 10-18 \nLooking for a program that will let your natural talents bloom? Want to get your hands dirty at the library? Join Ms Ann in the YS area for some good thymes. \nDecember 7: Creative Pinecones
URL:https://nileslibrary.com/single-event/tween-and-teen-green-thumbs/
CATEGORIES:Clubs
END:VEVENT
BEGIN:VEVENT
DTSTART;TZID=America/New_York:20241207T160000
DTEND;TZID=America/New_York:20241207T170000
DTSTAMP:20260424T104249
CREATED:20241203T211720Z
LAST-MODIFIED:20241203T211720Z
UID:10000378-1733587200-1733590800@nileslibrary.com
SUMMARY:Teen and Tween Writer's Club
DESCRIPTION:Select Saturdays | 4 pm | Patti’s Place | Ages 10-18 </br> \nJoin us for a new teen and tween writing community where you can share your ideas\, provide inspiration to your peers\, and write in a fun\, safe environment. This event immediately follows Teen and Tween Green Thumbs\, so come for gardening\, and stay for writing club!
URL:https://nileslibrary.com/single-event/teen-and-tween-writers-club-4/
CATEGORIES:Clubs
END:VEVENT
END:VCALENDAR