BEGIN:VCALENDAR
VERSION:2.0
PRODID:-//Niles District Library - ECPv6.15.17.1//NONSGML v1.0//EN
CALSCALE:GREGORIAN
METHOD:PUBLISH
X-WR-CALNAME:Niles District Library
X-ORIGINAL-URL:https://nileslibrary.com
X-WR-CALDESC:Events for Niles District Library
REFRESH-INTERVAL;VALUE=DURATION:PT1H
X-Robots-Tag:noindex
X-PUBLISHED-TTL:PT1H
BEGIN:VTIMEZONE
TZID:America/New_York
BEGIN:DAYLIGHT
TZOFFSETFROM:-0500
TZOFFSETTO:-0400
TZNAME:EDT
DTSTART:20230312T070000
END:DAYLIGHT
BEGIN:STANDARD
TZOFFSETFROM:-0400
TZOFFSETTO:-0500
TZNAME:EST
DTSTART:20231105T060000
END:STANDARD
BEGIN:DAYLIGHT
TZOFFSETFROM:-0500
TZOFFSETTO:-0400
TZNAME:EDT
DTSTART:20240310T070000
END:DAYLIGHT
BEGIN:STANDARD
TZOFFSETFROM:-0400
TZOFFSETTO:-0500
TZNAME:EST
DTSTART:20241103T060000
END:STANDARD
BEGIN:DAYLIGHT
TZOFFSETFROM:-0500
TZOFFSETTO:-0400
TZNAME:EDT
DTSTART:20250309T070000
END:DAYLIGHT
BEGIN:STANDARD
TZOFFSETFROM:-0400
TZOFFSETTO:-0500
TZNAME:EST
DTSTART:20251102T060000
END:STANDARD
END:VTIMEZONE
BEGIN:VEVENT
DTSTART;TZID=America/New_York:20241205T103000
DTEND;TZID=America/New_York:20241205T110000
DTSTAMP:20260424T133421
CREATED:20241031T172829Z
LAST-MODIFIED:20241104T224334Z
UID:10000264-1733394600-1733396400@nileslibrary.com
SUMMARY:Preschool Storytime
DESCRIPTION:Preschool Storytime\nWednesdays & Thursdays | 10:30 – 11 am | Storytime Room | All Ages & Abilities  \nJoin us for Storytime! There will be three stories\, two songs\, and a craft. All ages and abilities welcome. This Storytime introduces preschool concepts and routines to prepare your little one for school. No registration required. You do not need a library card to attend this FREE event.
URL:https://nileslibrary.com/single-event/preschool-storytime-26/
END:VEVENT
BEGIN:VEVENT
DTSTART;TZID=America/New_York:20241205T160000
DTEND;TZID=America/New_York:20241205T173000
DTSTAMP:20260424T133421
CREATED:20241031T172604Z
LAST-MODIFIED:20241104T224416Z
UID:10000198-1733414400-1733419800@nileslibrary.com
SUMMARY:Teen Dungeons & Dragons Club Team A
DESCRIPTION:Teen Dungeons and Dragons Club (D&D) Team A\nThursdays | 4 – 5:30 pm | Board Room | Ages 13-18 \nTeen D&D Club Team A – A game based around role-playing as a character you\, the player designs\, in a fantasy-based world. You and the others players create adventures and become heroes of the world. The Dungeon Master weaves the tale your characters start upon\, and gives you challenges along your journey.\n\nRegistration is preferred but not required. To register email Youthservices@nileslibrary.net or call 269-683-8545. 
URL:https://nileslibrary.com/single-event/teen-dungeons-dragons-club-team-a-12/
CATEGORIES:Clubs
END:VEVENT
BEGIN:VEVENT
DTSTART;TZID=America/New_York:20241205T180000
DTEND;TZID=America/New_York:20241205T190000
DTSTAMP:20260424T133421
CREATED:20241031T173108Z
LAST-MODIFIED:20241104T224459Z
UID:10000362-1733421600-1733425200@nileslibrary.com
SUMMARY:Dewey Crochet Group
DESCRIPTION:Dewey Crochet Group\n1st and 3rd Thursdays | 6 – 7 pm | Patti’s Place* | Ages 18+\n\nBring your current crochet project and enjoy a relaxing time with fellow crocheters! Beginners are welcome\, and we’re here to help you get started. Don’t have a hook? Borrow one from our Library of Things! \n\nNo registration required. You do not need a library card to attend this FREE event. \nFor more information about this program or other library services please email programming@nileslibrary.net or call NDL at 269-683-8545. 
URL:https://nileslibrary.com/single-event/dewey-crochet-group-7/
CATEGORIES:Clubs
END:VEVENT
BEGIN:VEVENT
DTSTART;TZID=America/New_York:20241205T180000
DTEND;TZID=America/New_York:20241205T193000
DTSTAMP:20260424T133421
CREATED:20241031T172640Z
LAST-MODIFIED:20241104T224535Z
UID:10000213-1733421600-1733427000@nileslibrary.com
SUMMARY:Teen Dungeons & Dragons Club Team B
DESCRIPTION:Teen Dungeons and Dragons Club (D&D) Team B\nThursdays| 6 – 7:30 pm | Board Room | Ages 13-18 \nTeen D&D Club Team B – A game based around role-playing as a character you\, the player designs\, in a fantasy-based world. You and the others players create adventures and become heroes of the world. The Dungeon Master weaves the tale your characters start upon\, and gives you challenges along your journey. \nRegistration is preferred but not required. To register email Youthservices@nileslibrary.net or call 269-683-8545.
URL:https://nileslibrary.com/single-event/teen-dungeons-dragons-club-team-b-12/
CATEGORIES:Clubs
END:VEVENT
BEGIN:VEVENT
DTSTART;TZID=America/New_York:20241205T180000
DTEND;TZID=America/New_York:20241205T193000
DTSTAMP:20260424T133421
CREATED:20241031T172641Z
LAST-MODIFIED:20241104T224704Z
UID:10000218-1733421600-1733427000@nileslibrary.com
SUMMARY:Teen Dungeons & Dragons Club Team B
DESCRIPTION:Teen Dungeons and Dragons Club (D&D) Team B\nWeekly on Thursday | 6 – 7:30 pm | Board Room | Ages 13-18 \nTeen D&D Club Team B – A game based around role-playing as a character you\, the player designs\, in a fantasy-based world. You and the others players create adventures and become heroes of the world. The Dungeon Master weaves the tale your characters start upon\, and gives you challenges along your journey. \nRegistration is preferred but not required. To register email Youthservices@nileslibrary.net or call 269-683-8545.
URL:https://nileslibrary.com/single-event/teen-dungeons-dragons-club-team-b-16/
CATEGORIES:Clubs
END:VEVENT
END:VCALENDAR