BEGIN:VCALENDAR
VERSION:2.0
PRODID:-//Niles District Library - ECPv6.15.17.1//NONSGML v1.0//EN
CALSCALE:GREGORIAN
METHOD:PUBLISH
X-WR-CALNAME:Niles District Library
X-ORIGINAL-URL:https://nileslibrary.com
X-WR-CALDESC:Events for Niles District Library
REFRESH-INTERVAL;VALUE=DURATION:PT1H
X-Robots-Tag:noindex
X-PUBLISHED-TTL:PT1H
BEGIN:VTIMEZONE
TZID:America/New_York
BEGIN:DAYLIGHT
TZOFFSETFROM:-0500
TZOFFSETTO:-0400
TZNAME:EDT
DTSTART:20230312T070000
END:DAYLIGHT
BEGIN:STANDARD
TZOFFSETFROM:-0400
TZOFFSETTO:-0500
TZNAME:EST
DTSTART:20231105T060000
END:STANDARD
BEGIN:DAYLIGHT
TZOFFSETFROM:-0500
TZOFFSETTO:-0400
TZNAME:EDT
DTSTART:20240310T070000
END:DAYLIGHT
BEGIN:STANDARD
TZOFFSETFROM:-0400
TZOFFSETTO:-0500
TZNAME:EST
DTSTART:20241103T060000
END:STANDARD
BEGIN:DAYLIGHT
TZOFFSETFROM:-0500
TZOFFSETTO:-0400
TZNAME:EDT
DTSTART:20250309T070000
END:DAYLIGHT
BEGIN:STANDARD
TZOFFSETFROM:-0400
TZOFFSETTO:-0500
TZNAME:EST
DTSTART:20251102T060000
END:STANDARD
END:VTIMEZONE
BEGIN:VEVENT
DTSTART;TZID=America/New_York:20241203T180000
DTEND;TZID=America/New_York:20241203T190000
DTSTAMP:20260424T163317
CREATED:20241031T172352Z
LAST-MODIFIED:20241104T211536Z
UID:10000168-1733248800-1733252400@nileslibrary.com
SUMMARY:Magic The Gathering
DESCRIPTION:Magic: the Gathering\nTuesdays | 6 – 7 pm | Patti’s Place | Ages 8-18 (Tweens & Teens) \nCome join the wonderful world of Magic: the Gathering\, the deck building card game! Battle your friends in a head-to-head strategy game.\nNo registration required. You do not need a library card to attend this FREE event.
URL:https://nileslibrary.com/single-event/magic-the-gathering-14/
END:VEVENT
BEGIN:VEVENT
DTSTART;TZID=America/New_York:20241203T180000
DTEND;TZID=America/New_York:20241203T193000
DTSTAMP:20260424T163317
CREATED:20241031T172915Z
LAST-MODIFIED:20241104T211624Z
UID:10000306-1733248800-1733254200@nileslibrary.com
SUMMARY:Niles Art Association
DESCRIPTION:Niles Art Association \nFirst Tuesdays\, April – December | 6 – 7:30 pm | Community Room | All Ages \nWe are a community of local artists and supporters dedicated to “enriching our community through the arts.” Our members explore a wide range of visual arts\, including drawing\, painting\, fiber art\, wood carving\, photography\, pottery\, jewelry\, metal art\, graphic design\, and digital art. Our mission: to bring the arts to the heart of our community. Meetings are free\, open to the public\, and no registration is required. \nContact Niles Art Association\nMail: Niles Art Association P.O. Box 801 Niles\, MI 49120\nEmail: nilesartassociation@gmail.com\nFacebook at Niles Art Association\nhttp://nilesartassc.webs.com/ \nNo registration required. You do not need a library card to attend this FREE event. \nFor more information about this program or other library services please email programming@nileslibrary.net or call NDL at 269-683-8545. 
URL:https://nileslibrary.com/single-event/niles-art-association-2/
END:VEVENT
END:VCALENDAR