BEGIN:VCALENDAR
VERSION:2.0
PRODID:-//Niles District Library - ECPv6.15.17.1//NONSGML v1.0//EN
CALSCALE:GREGORIAN
METHOD:PUBLISH
X-ORIGINAL-URL:https://nileslibrary.com
X-WR-CALDESC:Events for Niles District Library
REFRESH-INTERVAL;VALUE=DURATION:PT1H
X-Robots-Tag:noindex
X-PUBLISHED-TTL:PT1H
BEGIN:VTIMEZONE
TZID:America/New_York
BEGIN:DAYLIGHT
TZOFFSETFROM:-0500
TZOFFSETTO:-0400
TZNAME:EDT
DTSTART:20230312T070000
END:DAYLIGHT
BEGIN:STANDARD
TZOFFSETFROM:-0400
TZOFFSETTO:-0500
TZNAME:EST
DTSTART:20231105T060000
END:STANDARD
BEGIN:DAYLIGHT
TZOFFSETFROM:-0500
TZOFFSETTO:-0400
TZNAME:EDT
DTSTART:20240310T070000
END:DAYLIGHT
BEGIN:STANDARD
TZOFFSETFROM:-0400
TZOFFSETTO:-0500
TZNAME:EST
DTSTART:20241103T060000
END:STANDARD
BEGIN:DAYLIGHT
TZOFFSETFROM:-0500
TZOFFSETTO:-0400
TZNAME:EDT
DTSTART:20250309T070000
END:DAYLIGHT
BEGIN:STANDARD
TZOFFSETFROM:-0400
TZOFFSETTO:-0500
TZNAME:EST
DTSTART:20251102T060000
END:STANDARD
END:VTIMEZONE
BEGIN:VEVENT
DTSTART;TZID=America/New_York:20241202T130000
DTEND;TZID=America/New_York:20241202T150000
DTSTAMP:20260424T175659
CREATED:20241031T173043Z
LAST-MODIFIED:20241104T211201Z
UID:10000343-1733144400-1733151600@nileslibrary.com
SUMMARY:MakerSpace & Library of Things Open Hours
DESCRIPTION:MakerSpace & Library of Things Open Hours\n1st Mondays | 1 – 3 pm | MakerSpace | Ages 18+ \nCome into the MakerSpace\, explore the Library of Things\, or utilize our space for your project. There are a variety of tools available for you to use – the possibilities are endless!\nSome craft supplies will be available for purchase. Please bring your own specific supplies and materials for your project.\n\nAdditional MakerSpace & Library of Things Open Hours \n\nSecond Saturday of each month | 12 pm –  2 pm\nFourth Wednesday of each month | 5:30 – 7:30 pm\n\nNo registration required. You do not need a library card to attend this FREE event.\nFor more information about this program or other library services please email programming@nileslibrary.net or call NDL Library at 269-683-8545.
URL:https://nileslibrary.com/single-event/makerspace-library-of-things-open-hours-3/
END:VEVENT
BEGIN:VEVENT
DTSTART;TZID=America/New_York:20241202T180000
DTEND;TZID=America/New_York:20241202T193000
DTSTAMP:20260424T175659
CREATED:20241031T172910Z
LAST-MODIFIED:20241104T211235Z
UID:10000299-1733162400-1733167800@nileslibrary.com
SUMMARY:Creative Writers Club
DESCRIPTION:Creative Writers Club\nEvery other Monday | 6 – 7:30 pm | Community Room | Ages 18+ \nCalling all authors! Connect\, share\, and create with fellow local writers at the Creative Writers Club\, led by English Professor Joe Coti. \nNo registration required. You do not need a library card to attend this FREE event. \nFor more information about this program or other library services please email programming@nileslibrary.net or call NDL Library at 269-683-8545.
URL:https://nileslibrary.com/single-event/creative-writers-club-7/
CATEGORIES:Clubs
END:VEVENT
BEGIN:VEVENT
DTSTART;TZID=America/New_York:20241202T183000
DTEND;TZID=America/New_York:20241202T193000
DTSTAMP:20260424T175659
CREATED:20241031T172314Z
LAST-MODIFIED:20241104T211352Z
UID:10000150-1733164200-1733167800@nileslibrary.com
SUMMARY:Evening Storytime
DESCRIPTION:Evening Storytime\nMondays | 6:30 pm | Storytime Room | All Ages & Abilities \nEvening Storytime is the perfect way to enjoy a beautiful night together as a family. We will have three themed stories and wiggle songs\, followed by a craft. Feel free to wear your jammies!\nNo registration required. You do not need a library card to attend this FREE event.
URL:https://nileslibrary.com/single-event/evening-storytime-13/
END:VEVENT
END:VCALENDAR