BEGIN:VCALENDAR
VERSION:2.0
PRODID:-//Niles District Library - ECPv6.15.17.1//NONSGML v1.0//EN
CALSCALE:GREGORIAN
METHOD:PUBLISH
X-WR-CALNAME:Niles District Library
X-ORIGINAL-URL:https://nileslibrary.com
X-WR-CALDESC:Events for Niles District Library
REFRESH-INTERVAL;VALUE=DURATION:PT1H
X-Robots-Tag:noindex
X-PUBLISHED-TTL:PT1H
BEGIN:VTIMEZONE
TZID:America/New_York
BEGIN:DAYLIGHT
TZOFFSETFROM:-0500
TZOFFSETTO:-0400
TZNAME:EDT
DTSTART:20230312T070000
END:DAYLIGHT
BEGIN:STANDARD
TZOFFSETFROM:-0400
TZOFFSETTO:-0500
TZNAME:EST
DTSTART:20231105T060000
END:STANDARD
BEGIN:DAYLIGHT
TZOFFSETFROM:-0500
TZOFFSETTO:-0400
TZNAME:EDT
DTSTART:20240310T070000
END:DAYLIGHT
BEGIN:STANDARD
TZOFFSETFROM:-0400
TZOFFSETTO:-0500
TZNAME:EST
DTSTART:20241103T060000
END:STANDARD
BEGIN:DAYLIGHT
TZOFFSETFROM:-0500
TZOFFSETTO:-0400
TZNAME:EDT
DTSTART:20250309T070000
END:DAYLIGHT
BEGIN:STANDARD
TZOFFSETFROM:-0400
TZOFFSETTO:-0500
TZNAME:EST
DTSTART:20251102T060000
END:STANDARD
END:VTIMEZONE
BEGIN:VEVENT
DTSTART;TZID=America/New_York:20241130T110000
DTEND;TZID=America/New_York:20241130T150000
DTSTAMP:20260424T205537
CREATED:20241031T172911Z
LAST-MODIFIED:20241104T210732Z
UID:10000302-1732964400-1732978800@nileslibrary.com
SUMMARY:Local Author Book Sale
DESCRIPTION:Local Author Book Sale \nSaturday\, November 30 | 11 am -3 pm | Rotunda | All Ages \nSupport local authors at the Niles District Library! Discover your next favorite book or pick up unique gifts\, all written by talented writers from the area. Don’t miss the chance to get your copies signed by the authors themselves!\n\nList of Authors\n\n \nMartin Klubeck – The Adventures of Sir Locke the Gnome\, The Time Warp King\, Don’t Manage…Coach!\, and other titles.  \nAshley S. Hattle – A Haunting Between Worlds and Cluster Headaches: A Self-Help Guide \nAnnie Rettic – Gratitude: A Path To Grace \nPhil Brackett – The Man in Room 204\, Prompt Creations (In a Pandemic)\, and The April Fool \nCarla Murphy – Unlocked Identity \nAnn Born – Local Color \nDoris Holik Kelly – Mystery of the Copper Turtle and The Crows’ Warning: Escaping the Wildfires of 1881 \nCarmen Ella – The Adventures of Captain Dither
URL:https://nileslibrary.com/single-event/local-author-book-sale/
CATEGORIES:Special Programs
END:VEVENT
BEGIN:VEVENT
DTSTART;TZID=America/New_York:20241130T130000
DTEND;TZID=America/New_York:20241130T150000
DTSTAMP:20260424T205537
CREATED:20241031T173018Z
LAST-MODIFIED:20241104T211122Z
UID:10000333-1732971600-1732978800@nileslibrary.com
SUMMARY:Dungeons & Dragons for Adults
DESCRIPTION:Dungeons & Dragons for Adults\nEvery other Saturday | 1 – 3 pm | Lower Level Classroom | Ages 18+  \nEmbark on an epic adventure with our library-led Dungeon Master in a game of Dungeons & Dragons! We meet every other Saturday\, and all materials will be provided. New players may bring their favorite dice and get ready to build their character! \nNo registration required. You do not need a library card to attend this FREE event. \nFor more information about this program or other library services please email programming@nileslibrary.net or call NDL at 269-683-8545.
URL:https://nileslibrary.com/single-event/dungeons-dragons-for-adults-ages-18-7/
CATEGORIES:Clubs
END:VEVENT
END:VCALENDAR